BEGIN:VCALENDAR
VERSION:2.0
PRODID:-//TC Ebersberg - ECPv6.15.20//NONSGML v1.0//EN
CALSCALE:GREGORIAN
METHOD:PUBLISH
X-ORIGINAL-URL:https://www.tcebersberg.de
X-WR-CALDESC:Veranstaltungen für TC Ebersberg
REFRESH-INTERVAL;VALUE=DURATION:PT1H
X-Robots-Tag:noindex
X-PUBLISHED-TTL:PT1H
BEGIN:VTIMEZONE
TZID:Europe/Berlin
BEGIN:DAYLIGHT
TZOFFSETFROM:+0100
TZOFFSETTO:+0200
TZNAME:CEST
DTSTART:20230326T010000
END:DAYLIGHT
BEGIN:STANDARD
TZOFFSETFROM:+0200
TZOFFSETTO:+0100
TZNAME:CET
DTSTART:20231029T010000
END:STANDARD
BEGIN:DAYLIGHT
TZOFFSETFROM:+0100
TZOFFSETTO:+0200
TZNAME:CEST
DTSTART:20240331T010000
END:DAYLIGHT
BEGIN:STANDARD
TZOFFSETFROM:+0200
TZOFFSETTO:+0100
TZNAME:CET
DTSTART:20241027T010000
END:STANDARD
BEGIN:DAYLIGHT
TZOFFSETFROM:+0100
TZOFFSETTO:+0200
TZNAME:CEST
DTSTART:20250330T010000
END:DAYLIGHT
BEGIN:STANDARD
TZOFFSETFROM:+0200
TZOFFSETTO:+0100
TZNAME:CET
DTSTART:20251026T010000
END:STANDARD
END:VTIMEZONE
BEGIN:VEVENT
DTSTART;VALUE=DATE:20240420
DTEND;VALUE=DATE:20240421
DTSTAMP:20260423T204926
CREATED:20240302T100210Z
LAST-MODIFIED:20240416T124633Z
UID:3637-1713571200-1713657599@www.tcebersberg.de
SUMMARY:LK-Tagesturnier in Grafing
DESCRIPTION:Der TC Topspin veranstaltet ein Eintages-LK-Turnier auf der Anlage des TC Grafing \n  \n 
URL:https://www.tcebersberg.de/event/lk-turnier/
LOCATION:Grafing\, Am Stadion 11\, Grafing\, 85567
CATEGORIES:Clubevent,TC Topspin,Turnier
ATTACH;FMTTYPE=image/jpeg:https://www.tcebersberg.de/wp-content/uploads/2018/02/tc-ebersberg-impress.jpg
ORGANIZER;CN="TC Topspin":MAILTO:info@tcebersberg.de
END:VEVENT
END:VCALENDAR